BEGIN:VCALENDAR
VERSION:2.0
PRODID:-//Forum for Democratic Change - ECPv6.0.9//NONSGML v1.0//EN
CALSCALE:GREGORIAN
METHOD:PUBLISH
X-WR-CALNAME:Forum for Democratic Change
X-ORIGINAL-URL:https://fdc.ug
X-WR-CALDESC:Events for Forum for Democratic Change
REFRESH-INTERVAL;VALUE=DURATION:PT1H
X-Robots-Tag:noindex
X-PUBLISHED-TTL:PT1H
BEGIN:VTIMEZONE
TZID:UTC
BEGIN:STANDARD
TZOFFSETFROM:+0000
TZOFFSETTO:+0000
TZNAME:UTC
DTSTART:20230101T000000
END:STANDARD
END:VTIMEZONE
BEGIN:VEVENT
DTSTART;VALUE=DATE:20231214
DTEND;VALUE=DATE:20231216
DTSTAMP:20260420T143219
CREATED:20231121T092417Z
LAST-MODIFIED:20231121T092620Z
UID:4119-1702512000-1702684799@fdc.ug
SUMMARY:17TH NATIONAL COUNCIL MEETING
DESCRIPTION:
URL:https://fdc.ug/event/17th-national-council-meeting/
LOCATION:FDC Headquaters\, Najjanankumbi\, plot 1164 Najjanankumbi\, Entebbe Road\, Kampala.\, Uganda
CATEGORIES:EVENT
END:VEVENT
END:VCALENDAR